BEGIN:VCALENDAR
VERSION:2.0
PRODID:-//The Range - ECPv6.15.20//NONSGML v1.0//EN
CALSCALE:GREGORIAN
METHOD:PUBLISH
X-WR-CALNAME:The Range
X-ORIGINAL-URL:https://therangeatphesantekraal.co.za
X-WR-CALDESC:Events for The Range
REFRESH-INTERVAL;VALUE=DURATION:PT1H
X-Robots-Tag:noindex
X-PUBLISHED-TTL:PT1H
BEGIN:VTIMEZONE
TZID:Africa/Johannesburg
BEGIN:STANDARD
TZOFFSETFROM:+0200
TZOFFSETTO:+0200
TZNAME:SAST
DTSTART:20250101T000000
END:STANDARD
END:VTIMEZONE
BEGIN:VTIMEZONE
TZID:UTC
BEGIN:STANDARD
TZOFFSETFROM:+0000
TZOFFSETTO:+0000
TZNAME:UTC
DTSTART:20250101T000000
END:STANDARD
END:VTIMEZONE
BEGIN:VEVENT
DTSTART;TZID=Africa/Johannesburg:20260516T080000
DTEND;TZID=Africa/Johannesburg:20260516T130000
DTSTAMP:20260424T083442
CREATED:20260327T120959Z
LAST-MODIFIED:20260331T093301Z
UID:1537-1778918400-1778936400@therangeatphesantekraal.co.za
SUMMARY:CHASA .22LR Baanskiet
DESCRIPTION:
URL:https://therangeatphesantekraal.co.za/event/chasa-22lr-baanskiet-2/
LOCATION:The Range at Phesantekraal\, The Range at Phesantekraal\, Cape Town\, Western Cape\, 7530\, South Africa
ORGANIZER;CN="Kaapjag Sentraal":MAILTO:Paul.w.harding@gmail.com
END:VEVENT
BEGIN:VEVENT
DTSTART;TZID=UTC:20260425T090000
DTEND;TZID=UTC:20260425T163000
DTSTAMP:20260424T083442
CREATED:20260422T114849Z
LAST-MODIFIED:20260422T114849Z
UID:1743-1777107600-1777134600@therangeatphesantekraal.co.za
SUMMARY:Trap & Skeet
DESCRIPTION:Trap and Skeet shoot hosted by Sa Hunters and Durbanville Shooting Club. \n9am – Report to the Clubhouse \nBring Eye and Ear protection \nRefreshments will be available after the shoot
URL:https://therangeatphesantekraal.co.za/event/trap-skeet/
LOCATION:The Range at Phesantekraal\, The Range at Phesantekraal\, Cape Town\, Western Cape\, 7530\, South Africa
ORGANIZER;CN="Durbanville Skietklub":MAILTO:info@dsk-dsc.co.za
END:VEVENT
END:VCALENDAR